BEGIN:VCALENDAR
VERSION:2.0
PRODID:-//Krause Bell Group - ECPv6.15.20//NONSGML v1.0//EN
CALSCALE:GREGORIAN
METHOD:PUBLISH
X-ORIGINAL-URL:https://krausebellgroup.com
X-WR-CALDESC:Events for Krause Bell Group
REFRESH-INTERVAL;VALUE=DURATION:PT1H
X-Robots-Tag:noindex
X-PUBLISHED-TTL:PT1H
BEGIN:VTIMEZONE
TZID:America/New_York
BEGIN:DAYLIGHT
TZOFFSETFROM:-0500
TZOFFSETTO:-0400
TZNAME:EDT
DTSTART:20250309T070000
END:DAYLIGHT
BEGIN:STANDARD
TZOFFSETFROM:-0400
TZOFFSETTO:-0500
TZNAME:EST
DTSTART:20251102T060000
END:STANDARD
BEGIN:DAYLIGHT
TZOFFSETFROM:-0500
TZOFFSETTO:-0400
TZNAME:EDT
DTSTART:20260308T070000
END:DAYLIGHT
BEGIN:STANDARD
TZOFFSETFROM:-0400
TZOFFSETTO:-0500
TZNAME:EST
DTSTART:20261101T060000
END:STANDARD
BEGIN:DAYLIGHT
TZOFFSETFROM:-0500
TZOFFSETTO:-0400
TZNAME:EDT
DTSTART:20270314T070000
END:DAYLIGHT
BEGIN:STANDARD
TZOFFSETFROM:-0400
TZOFFSETTO:-0500
TZNAME:EST
DTSTART:20271107T060000
END:STANDARD
END:VTIMEZONE
BEGIN:VTIMEZONE
TZID:Europe/Amsterdam
BEGIN:DAYLIGHT
TZOFFSETFROM:+0100
TZOFFSETTO:+0200
TZNAME:CEST
DTSTART:20250330T010000
END:DAYLIGHT
BEGIN:STANDARD
TZOFFSETFROM:+0200
TZOFFSETTO:+0100
TZNAME:CET
DTSTART:20251026T010000
END:STANDARD
BEGIN:DAYLIGHT
TZOFFSETFROM:+0100
TZOFFSETTO:+0200
TZNAME:CEST
DTSTART:20260329T010000
END:DAYLIGHT
BEGIN:STANDARD
TZOFFSETFROM:+0200
TZOFFSETTO:+0100
TZNAME:CET
DTSTART:20261025T010000
END:STANDARD
BEGIN:DAYLIGHT
TZOFFSETFROM:+0100
TZOFFSETTO:+0200
TZNAME:CEST
DTSTART:20270328T010000
END:DAYLIGHT
BEGIN:STANDARD
TZOFFSETFROM:+0200
TZOFFSETTO:+0100
TZNAME:CET
DTSTART:20271031T010000
END:STANDARD
END:VTIMEZONE
BEGIN:VEVENT
DTSTART;TZID=America/New_York:20260422T110000
DTEND;TZID=America/New_York:20260422T120000
DTSTAMP:20260419T080735
CREATED:20260203T191327Z
LAST-MODIFIED:20260203T191327Z
UID:10000146-1776855600-1776859200@krausebellgroup.com
SUMMARY:WEBINAR:  A CONVERSATION WITH TOM KRAUSE:  Culture\, Safety\, and Driving Results
DESCRIPTION:Join us Wednesday\, April 22\, 2026\, for an interview-style webinar titled “A CONVERSATION WITH TOM KRAUSE:  Culture\, Safety\, and Driving Results.” In this webinar\, Rebecca Timmins will interview Tom Krause exploring workplace safety\, the importance of strong organizational culture\, and how leaders can leverage both to drive business performance. \nIn this interview-style webinar with Tom Krause\, Rebecca Timmins will ask a powerful series of questions that trace Tom’s early work in Behavior Based Safety\, incorporate his landmark research into Serious Injury and Fatality (SIF) Prevention\, and illustrate the how culture and decision-making drive effective leadership. \nThe webinar features the latest insights into safety\, culture\, leadership\, and decision-making\, including: \n\nThe connection between safety performance and business performance\nProven ways for leaders to improve safety\, while driving business results\nThe importance of culture and how leaders create it\nThe critical impact leadership decision-making has on the safety and long-term performance of an organization\nHow strong leaders effectively embed safety into daily operations\n\nTom will share real-world stories of organizations who have worked with him to apply these principles\, highlighting the challenges they faced on the road to improvement. He will offer practical advice designed to inspire executives\, operations and safety leaders seek sharper\, evidence-based ways to link safety\, culture\, and business results.​ \nThe session will end with Tom’s insights into emerging safety and trends\, in addition to a fast-paced lightning round of questions designed to distill his experiences into inspiring takeaways. \n\nA CONVERSATION WITH TOM KRAUSE:  Culture\, Safety\, and Driving Results\nApril 22\, 2026\n11:00 – noon Eastern Time (17:00-18:00 CET)\n\nThere will be time allocated at the end of the webinar for questions. You are encouraged to submit these at the time of registration so that they can be incorporated into the session. \nWe look forward to seeing you on April 22nd! \nREGISTRATION LINK \nThis event is specifically designed for safety leaders who are working to eliminate Serious Injuries and Fatalities within their organizations. We respectfully request that independent consultants and employees of safety consulting firms not participate in this event.
URL:https://krausebellgroup.com/event/webinar-tom-krause-culture-safety-results/
LOCATION:Online Event
CATEGORIES:Webinar
ATTACH;FMTTYPE=image/png:https://krausebellgroup.com/wp-content/uploads/2026/02/US-webinar-2026_April-scaled-e1770145860527.png
ORGANIZER;CN="Kristel Goddevriendt":MAILTO:info@krausebellgroup.com
END:VEVENT
BEGIN:VEVENT
DTSTART;TZID=Europe/Amsterdam:20260423T100000
DTEND;TZID=Europe/Amsterdam:20260423T110000
DTSTAMP:20260419T080735
CREATED:20260413T081336Z
LAST-MODIFIED:20260414T113021Z
UID:10000158-1776938400-1776942000@krausebellgroup.com
SUMMARY:WEBINAR organised by WLCUS - Why Do Safety Efforts Plateau - and What Can Leaders Do About It?
DESCRIPTION:Join Filip Coumans and Thomas Meier for this 60 minute webinar around “Why Do Safety Efforts Plateau – and What Can Leaders Do About It?” organised by WLCUS \nMost organisations have good intentions when it comes to safety improvement. They invest in systems\, processes\, and initiatives designed to reduce risk and enhance performance. Yet many find themselves plateauing\, improvement slows\, results fluctuate\, and progress feels hard to sustain.\nWhy? Because the very mechanism that should drive continuous improvement is not functioning as intended. We call that mechanism the Safety Loop. \nThis webinar is organised by WLCUS\, in association with Global HSE Nexus 2026 conference in Berlin on May 6th and 7th\, of which Krause Bell Group is a proud sponsor. Come and meet us there at our booth or join our presentation. \nRegister here to join the webinar on April 23rd\, organised by WLCUS. \nFREE registration \n \n  \nNexus webinar – Agenda
URL:https://krausebellgroup.com/event/webinar-wlcus-what-are-the-6-key-elements-you-need-to-create-sustainable-change-in-safety-2/
LOCATION:Online Event
CATEGORIES:Webinar
ORGANIZER;CN="Kristel Goddevriendt":MAILTO:info@krausebellgroup.com
END:VEVENT
BEGIN:VEVENT
DTSTART;TZID=Europe/Amsterdam:20260428T110000
DTEND;TZID=Europe/Amsterdam:20260428T120000
DTSTAMP:20260419T080735
CREATED:20260126T110235Z
LAST-MODIFIED:20260126T112527Z
UID:10000144-1777374000-1777377600@krausebellgroup.com
SUMMARY:WEBINAR - Safe Decision Making® framework
DESCRIPTION:Join Filip Coumans and Thomas Meier for this webinar around our Safe Decision Making® framework. \nIf you want to reduce Serious Injuries and Fatalities (SIF)\, you must look far beyond what workers “should have done differently.”\nMost organisations still focus heavily on frontline behaviour after an incident\, yet the data shows a very different story. Decisions made at every level of the organisation — from the front line to senior leadership — play a critical role in shaping exposure and influencing whether a serious incident occurs. \nIn a landmark study conducted with six multinational companies\, Krause Bell Group analysed 60 Serious Injury and Fatality events in depth. Across these cases\, we identified more than 600 decisions that contributed to the incidents. The findings challenge assumptions and provide a clear roadmap for prevention: \n\nOnly 33% of contributing decisions were made at the frontline.\nA full 67% were made at managerial or corporate levels — long before a worker ever encountered the hazard.\n\nThese decisions include how resources are allocated\, how priorities are communicated\, how production pressures are managed\, and how leaders weigh risks — often unconsciously — in day-to-day business trade-offs. Many leaders are unaware of the cumulative impact their choices have on exposure creation. \nTo prevent SIF events\, decision quality must improve at ALL levels of the organisation.\nThis webinar will explore what effective decision making looks like in practice\, why traditional incident reviews often miss critical organisational contributors\, and how leaders can better recognise the influence of cognitive biases\, competing priorities\, and systems design. \nWe’ll introduce the Safe-Decision-Making® framework and show how it helps leaders make more informed\, risk-aligned decisions that strengthen controls and reduce SIF exposure. \nWhether you are in operations\, EHS\, HR\, or senior leadership\, this session will clarify where your organisation’s real influence lies — and what actions you can take to meaningfully prevent Serious Injuries and Fatalities. \n \nRegister here to join our webinar. \nPlease Note: This event is specifically designed for safety leaders who are working to eliminate Serious Injuries and Fatalities within their organizations.\nWe respectfully request that independent consultants and employees of safety consulting firms not participate in this event.   \n 
URL:https://krausebellgroup.com/event/webinar-safe-decision-making-framework/
LOCATION:Online Event
CATEGORIES:Webinar
ORGANIZER;CN="Kristel Goddevriendt":MAILTO:info@krausebellgroup.com
END:VEVENT
END:VCALENDAR